BEGIN:VCALENDAR
VERSION:2.0
PRODID:-//ChamberMaster//Event Calendar 2.0//EN
METHOD:PUBLISH
X-PUBLISHED-TTL:P3D
REFRESH-INTERVAL:P3D
CALSCALE:GREGORIAN
BEGIN:VEVENT
DTSTART:20240316T170000Z
DTEND:20240316T200000Z
X-MICROSOFT-CDO-ALLDAYEVENT:FALSE
SUMMARY:"Experience Hyde Park" Hyde Park Pizza Fest
DESCRIPTION:Come out and "Experience Hyde Park" and sample pizza from 11 local pizzerias. $15 per ticket includes 4 pieces of pizza and a soft drink. \n\nPurchase tickets online or at the HPCC office.
X-ALT-DESC;FMTTYPE=text/html:Come out and &quot\;Experience Hyde Park&quot\; and sample pizza from 11 local pizzerias. $15 per ticket includes 4 pieces of pizza and a soft drink.&nbsp\;<br />\nPurchase tickets online or at the HPCC office.
LOCATION:The Promontory 5311 S Lake Park Ave W Chicago\, IL
UID:e.1800.612
SEQUENCE:3
DTSTAMP:20260423T085612Z
URL:https://businesses.hydeparkchamberchicago.org/events/details/experience-hyde-park-hyde-park-pizza-fest-612
END:VEVENT

END:VCALENDAR
